BEGIN:VCALENDAR
VERSION:2.0
PRODID:-//eventon.com NONSGML v1.0//EN
CALSCALE:GREGORIAN
METHOD:PUBLISH
BEGIN:VEVENT
UID:69ed6f392232c
DTSTAMP:20260426T014945Z
DTSTART:20250605
DTEND:20250606
LOCATION:
SUMMARY:ToolLab Kids June : Sail Boat
DESCRIPTION:Ages: 5-13  Cost: Free  Register to pick up your free sail bo
 at build kit: &nbsp;\nhttps://www.atlantatoolbank.org/events/toollab-kids-j
 une-sail-boat/
URL:https://www.atlantatoolbank.org/events/toollab-kids-june-sail-boat/
END:VEVENT
END:VCALENDAR