BEGIN:VCALENDAR
VERSION:2.0
PRODID:-//eventon.com NONSGML v1.0//EN
CALSCALE:GREGORIAN
METHOD:PUBLISH
BEGIN:VEVENT
UID:69ed558882413
DTSTAMP:20260426T000008Z
DTSTART:20250501
DTEND:20250502
LOCATION:
SUMMARY:ToolLab Kids May : Planter
DESCRIPTION:Ages: 5-13  Cost: Free  Register to pick up your free planter
  build kit: https://secure.givelively.org/event/atlanta-community-toolbank-
 inc/2025-toollab-kids/may-planter\nhttps://www.atlantatoolbank.org/events/t
 oollab-kids-may-planter/
URL:https://www.atlantatoolbank.org/events/toollab-kids-may-planter/
END:VEVENT
END:VCALENDAR