BEGIN:VCALENDAR
VERSION:2.0
PRODID:-//eventon.com NONSGML v1.0//EN
CALSCALE:GREGORIAN
METHOD:PUBLISH
BEGIN:VEVENT
UID:69ed3961a1e4f
DTSTAMP:20260425T220001Z
DTSTART:20250403
DTEND:20250404
LOCATION:
SUMMARY:ToolLab Kids April : Race Car
DESCRIPTION:Ages: 5-13  Cost: Free  Register to pick up your free race ca
 r build kit: https://secure.givelively.org/event/atlanta-community-toolbank
 -inc/2025-toollab-kids/april-race-car\nhttps://www.atlantatoolbank.org/even
 ts/toollab-kids-april-race-car/
URL:https://www.atlantatoolbank.org/events/toollab-kids-april-race-car/
END:VEVENT
END:VCALENDAR