BEGIN:VCALENDAR
VERSION:2.0
PRODID:-//eventon.com NONSGML v1.0//EN
CALSCALE:GREGORIAN
METHOD:PUBLISH
BEGIN:VEVENT
UID:69ed2262397a3
DTSTAMP:20260425T202154Z
DTSTART:20250426T130000Z
DTEND:20250426T160000Z
LOCATION:CHaRM DeKalb 1221 Columbia Drive
SUMMARY:CHaRM Kids Day
DESCRIPTION:CHaRM Kids Day brings together a number of environmental groups
 \,  recycling partners and corporate partners to provide interactive and ed
 ucational activities for kids. The purpose of the event is to mobilize kids
  throughout Metro Atlanta to actively engage in recycling and reusing items
  that will ultimately benefit the environment. Kids[..]\nhttps://www.atlant
 atoolbank.org/events/charm-kids-day/
URL:https://www.atlantatoolbank.org/events/charm-kids-day/
END:VEVENT
END:VCALENDAR