BEGIN:VCALENDAR
VERSION:2.0
PRODID:-//eventon.com NONSGML v1.0//EN
CALSCALE:GREGORIAN
METHOD:PUBLISH
BEGIN:VEVENT
UID:69ed0ae07500e
DTSTAMP:20260425T184136Z
DTSTART:20250305T140000Z
DTEND:20250305T050000Z
LOCATION:Atlanta ToolBank 410 Englewood Ave
SUMMARY:Basic Chop Saw Training and Front Desk Refurbish by Atlanta ToolBank
DESCRIPTION:This is a service project combined with a training.  CJ will g
 o over the basics of safe miter saw use then let everyone who desires pract
 ice making cuts while preparing the wood for the front desk refresh.  We w
 ill then attach the wood to the front desk for a sleek[..]\nhttps://www.atl
 antatoolbank.org/events/basic-chop-saw-training-and-front-desk-refurbish-by
 -atlanta-toolbank/
URL:https://www.atlantatoolbank.org/events/basic-chop-saw-training-and-front-desk-refurbish-by-atlanta-toolbank/
END:VEVENT
END:VCALENDAR