BEGIN:VCALENDAR
VERSION:2.0
PRODID:-//eventon.com NONSGML v1.0//EN
CALSCALE:GREGORIAN
METHOD:PUBLISH
BEGIN:VEVENT
UID:69ecf22c3f08b
DTSTAMP:20260425T165612Z
DTSTART:20250327T000900Z
DTEND:20250327T000900Z
LOCATION:
SUMMARY:The ToolBank is CLOSED today.
DESCRIPTION:The ToolBank is CLOSED today.\nhttps://www.atlantatoolbank.org/
 events/the-toolbank-is-closed-today-10/
URL:https://www.atlantatoolbank.org/events/the-toolbank-is-closed-today-10/
END:VEVENT
END:VCALENDAR