BEGIN:VCALENDAR
VERSION:2.0
PRODID:-//eventon.com NONSGML v1.0//EN
CALSCALE:GREGORIAN
METHOD:PUBLISH
BEGIN:VEVENT
UID:69e7a18039984
DTSTAMP:20260421T161040Z
DTSTART:20261003T130000Z
DTEND:20261003T180000Z
LOCATION:
SUMMARY:ToolRush
DESCRIPTION:Find thousands of new and gently-used  tools\,  equipment\,  a
 ccessories plus gardening and landscaping supplies. Everything included is 
 50% off retail value or more! You will find amazing deals and 100% of every
 thing you spend directly impacts our mission of empowering 2\, 000+ non-pro
 fits and community organizations accomplish their biggest goals. #gallery-1
 [..]\nhttps://www.atlantatoolbank.org/events/toolrush/
URL:https://www.atlantatoolbank.org/events/toolrush/
END:VEVENT
END:VCALENDAR