BEGIN:VCALENDAR
VERSION:2.0
PRODID:-//eventon.com NONSGML v1.0//EN
CALSCALE:GREGORIAN
METHOD:PUBLISH
BEGIN:VEVENT
UID:69ecd950153a3
DTSTAMP:20260425T151008Z
DTSTART:20251211
DTEND:20251212
LOCATION:
SUMMARY:LAST DAY to Pick Up Tools
DESCRIPTION:LAST DAY to Pick Up Tools\nhttps://www.atlantatoolbank.org/even
 ts/last-day-to-pick-up-tools/
URL:https://www.atlantatoolbank.org/events/last-day-to-pick-up-tools/
END:VEVENT
END:VCALENDAR