BEGIN:VCALENDAR
VERSION:2.0
PRODID:-//eventon.com NONSGML v1.0//EN
CALSCALE:GREGORIAN
METHOD:PUBLISH
BEGIN:VEVENT
UID:69ecc05abc5ce
DTSTAMP:20260425T132338Z
DTSTART:20251127T050100Z
DTEND:20251129T045000Z
LOCATION:
SUMMARY:THANKSGIVING BREAK | The ToolBank is CLOSED.
DESCRIPTION:THANKSGIVING BREAK | The ToolBank is CLOSED.\nhttps://www.atlan
 tatoolbank.org/events/thanksgiving-the-toolbank-is-closed/
URL:https://www.atlantatoolbank.org/events/thanksgiving-the-toolbank-is-closed/
END:VEVENT
END:VCALENDAR