BEGIN:VCALENDAR
VERSION:2.0
PRODID:-//eventon.com NONSGML v1.0//EN
CALSCALE:GREGORIAN
METHOD:PUBLISH
BEGIN:VEVENT
UID:69ecab7d5199c
DTSTAMP:20260425T115437Z
DTSTART:20251126
DTEND:20251127
LOCATION:
SUMMARY:The ToolBank is CLOSED today.
DESCRIPTION:The ToolBank is CLOSED today.\nhttps://www.atlantatoolbank.org/
 events/the-toolbank-is-closed-today-2/
URL:https://www.atlantatoolbank.org/events/the-toolbank-is-closed-today-2/
END:VEVENT
END:VCALENDAR