BEGIN:VCALENDAR
VERSION:2.0
PRODID:-//eventon.com NONSGML v1.0//EN
CALSCALE:GREGORIAN
METHOD:PUBLISH
BEGIN:VEVENT
UID:69ecaade7fc64
DTSTAMP:20260425T115158Z
DTSTART:20251029
DTEND:20251030
LOCATION:
SUMMARY:The ToolBank is CLOSED today.
DESCRIPTION:The ToolBank is CLOSED today.\nhttps://www.atlantatoolbank.org/
 events/the-toolbank-is-closed-today-3/
URL:https://www.atlantatoolbank.org/events/the-toolbank-is-closed-today-3/
END:VEVENT
END:VCALENDAR