BEGIN:VCALENDAR
VERSION:2.0
PRODID:-//eventon.com NONSGML v1.0//EN
CALSCALE:GREGORIAN
METHOD:PUBLISH
BEGIN:VEVENT
UID:69ecc1699da1e
DTSTAMP:20260425T132809Z
DTSTART:20250924
DTEND:20250925
LOCATION:
SUMMARY:The ToolBank is CLOSED today.
DESCRIPTION:The ToolBank is CLOSED today.\nhttps://www.atlantatoolbank.org/
 events/the-toolbank-is-closed-today-4/
URL:https://www.atlantatoolbank.org/events/the-toolbank-is-closed-today-4/
END:VEVENT
END:VCALENDAR