BEGIN:VCALENDAR
VERSION:2.0
PRODID:-//eventon.com NONSGML v1.0//EN
CALSCALE:GREGORIAN
METHOD:PUBLISH
BEGIN:VEVENT
UID:69ecd9a42ead8
DTSTAMP:20260425T151132Z
DTSTART:20250901
DTEND:20250902
LOCATION:
SUMMARY:LABOR DAY | The ToolBank is CLOSED today.
DESCRIPTION:LABOR DAY | The ToolBank is CLOSED today.\nhttps://www.atlantat
 oolbank.org/events/labor-day-the-toolbank-is-closed-today/
URL:https://www.atlantatoolbank.org/events/labor-day-the-toolbank-is-closed-today/
END:VEVENT
END:VCALENDAR