BEGIN:VCALENDAR
VERSION:2.0
PRODID:-//eventon.com NONSGML v1.0//EN
CALSCALE:GREGORIAN
METHOD:PUBLISH
BEGIN:VEVENT
UID:69ecf1f7e38be
DTSTAMP:20260425T165519Z
DTSTART:20250827
DTEND:20250828
LOCATION:
SUMMARY:The ToolBank is CLOSED today.
DESCRIPTION:The ToolBank is CLOSED today.\nhttps://www.atlantatoolbank.org/
 events/the-toolbank-is-closed-today-5/
URL:https://www.atlantatoolbank.org/events/the-toolbank-is-closed-today-5/
END:VEVENT
END:VCALENDAR