BEGIN:VCALENDAR
VERSION:2.0
PRODID:-//eventon.com NONSGML v1.0//EN
CALSCALE:GREGORIAN
METHOD:PUBLISH
BEGIN:VEVENT
UID:69ed0b2e2ee54
DTSTAMP:20260425T184254Z
DTSTART:20250730
DTEND:20250731
LOCATION:
SUMMARY:The ToolBank is CLOSED today.
DESCRIPTION:The ToolBank is CLOSED today.\nhttps://www.atlantatoolbank.org/
 events/the-toolbank-is-closed-today-6/
URL:https://www.atlantatoolbank.org/events/the-toolbank-is-closed-today-6/
END:VEVENT
END:VCALENDAR