BEGIN:VCALENDAR
VERSION:2.0
PRODID:-//eventon.com NONSGML v1.0//EN
CALSCALE:GREGORIAN
METHOD:PUBLISH
BEGIN:VEVENT
UID:69ed2091e50d8
DTSTAMP:20260425T201409Z
DTSTART:20250625T194700Z
DTEND:20250625T194700Z
LOCATION:
SUMMARY:INDEPENDENCE DAY | The ToolBank is CLOSED today.
DESCRIPTION:INDEPENDENCE DAY | The ToolBank is CLOSED today.\nhttps://www.a
 tlantatoolbank.org/events/independence-day-the-toolbank-is-closed-today/
URL:https://www.atlantatoolbank.org/events/independence-day-the-toolbank-is-closed-today/
END:VEVENT
END:VCALENDAR