BEGIN:VCALENDAR
VERSION:2.0
PRODID:-//eventon.com NONSGML v1.0//EN
CALSCALE:GREGORIAN
METHOD:PUBLISH
BEGIN:VEVENT
UID:69ed38005f46a
DTSTAMP:20260425T215408Z
DTSTART:20250625
DTEND:20250626
LOCATION:
SUMMARY:The ToolBank is CLOSED today.
DESCRIPTION:The ToolBank is CLOSED today.\nhttps://www.atlantatoolbank.org/
 events/the-toolbank-is-closed-today-7/
URL:https://www.atlantatoolbank.org/events/the-toolbank-is-closed-today-7/
END:VEVENT
END:VCALENDAR