BEGIN:VCALENDAR
VERSION:2.0
PRODID:-//eventon.com NONSGML v1.0//EN
CALSCALE:GREGORIAN
METHOD:PUBLISH
BEGIN:VEVENT
UID:69ed51f7717ae
DTSTAMP:20260425T234455Z
DTSTART:20250613
DTEND:20250614
LOCATION:Atlanta ToolBank 410 Englewood Ave
SUMMARY:ToolBank Member Open House
DESCRIPTION:We&#8217;re hosting a Member Open House to celebrate our partne
 rs in service—and to create space for connection\,  conversation\,  and c
 ommunity. There will be cold beverages\,  light bites\,  and plenty of good
  company. No agenda—just a chance to catch up\,  meet other member agenci
 es\,  and spend time together outside the usual[..]\nhttps://www.atlantatoo
 lbank.org/events/toolbank-member-open-house/
URL:https://www.atlantatoolbank.org/events/toolbank-member-open-house/
END:VEVENT
END:VCALENDAR