BEGIN:VCALENDAR
VERSION:2.0
PRODID:-//eventon.com NONSGML v1.0//EN
CALSCALE:GREGORIAN
METHOD:PUBLISH
BEGIN:VEVENT
UID:69ed6a3860afc
DTSTAMP:20260426T012824Z
DTSTART:20250528
DTEND:20250529
LOCATION:
SUMMARY:The ToolBank is CLOSED today.
DESCRIPTION:The ToolBank is CLOSED today.\nhttps://www.atlantatoolbank.org/
 events/the-toolbank-is-closed-today-8/
URL:https://www.atlantatoolbank.org/events/the-toolbank-is-closed-today-8/
END:VEVENT
END:VCALENDAR